0.063500000000204
0.0
0.0
-0.06349999999998
6412826.88875
5707853.561
